BEGIN:VCALENDAR
VERSION:2.0
PRODID:-//Institute for Infectious &amp; Inflammatory Diseases (i3D) - ECPv6.7.0//NONSGML v1.0//EN
CALSCALE:GREGORIAN
METHOD:PUBLISH
X-WR-CALNAME:Institute for Infectious &amp; Inflammatory Diseases (i3D)
X-ORIGINAL-URL:https://i3d.rutgers.edu
X-WR-CALDESC:Events for Institute for Infectious &amp; Inflammatory Diseases (i3D)
REFRESH-INTERVAL;VALUE=DURATION:PT1H
X-Robots-Tag:noindex
X-PUBLISHED-TTL:PT1H
BEGIN:VTIMEZONE
TZID:UTC
BEGIN:STANDARD
TZOFFSETFROM:+0000
TZOFFSETTO:+0000
TZNAME:UTC
DTSTART:20250101T000000
END:STANDARD
END:VTIMEZONE
BEGIN:VEVENT
DTSTART;TZID=UTC:20250918T110000
DTEND;TZID=UTC:20250918T120000
DTSTAMP:20260423T112510
CREATED:20250826T135045Z
LAST-MODIFIED:20250916T185132Z
UID:1866-1758193200-1758196800@i3d.rutgers.edu
SUMMARY:Joint Seminar Series 2025-2026 presented by Pfizer and the Center for Immunity & Inflammation
DESCRIPTION:SPEAKER:  Andreas Baumler\, UC Davis – HOST:  Nick Bessman
URL:https://i3d.rutgers.edu/event/1866/
LOCATION:185 South Orange Newark\, 185 South Orange Ave-Medical Science Building\, B 610\, Newark\, 07103\, United States
CATEGORIES:Public Events
END:VEVENT
BEGIN:VEVENT
DTSTART;TZID=UTC:20250925T110000
DTEND;TZID=UTC:20250925T120000
DTSTAMP:20260423T112510
CREATED:20250826T135318Z
LAST-MODIFIED:20250828T153613Z
UID:1871-1758798000-1758801600@i3d.rutgers.edu
SUMMARY:
DESCRIPTION:SPEAKER: Ana Rodriguez\, NYU – HOST: Robin Stephens
URL:https://i3d.rutgers.edu/event/1871/
LOCATION:NJ
CATEGORIES:Public Events
END:VEVENT
BEGIN:VEVENT
DTSTART;TZID=UTC:20251023T110000
DTEND;TZID=UTC:20251023T120000
DTSTAMP:20260423T112510
CREATED:20250826T135615Z
LAST-MODIFIED:20250828T154057Z
UID:1874-1761217200-1761220800@i3d.rutgers.edu
SUMMARY:
DESCRIPTION:SPEAKER: John Teijaro\, Scripts – HOST: Roy Wong
URL:https://i3d.rutgers.edu/event/1874/
LOCATION:NJ
CATEGORIES:Public Events
END:VEVENT
BEGIN:VEVENT
DTSTART;TZID=UTC:20251113T110000
DTEND;TZID=UTC:20251113T120000
DTSTAMP:20260423T112510
CREATED:20250826T135718Z
LAST-MODIFIED:20250828T154034Z
UID:1876-1763031600-1763035200@i3d.rutgers.edu
SUMMARY:
DESCRIPTION:SPEAKER: Teruyuki Sano\, U Chicago – HOST: Yosuke Kumamoto
URL:https://i3d.rutgers.edu/event/1876/
LOCATION:NJ
CATEGORIES:Public Events
END:VEVENT
BEGIN:VEVENT
DTSTART;TZID=UTC:20251204T110000
DTEND;TZID=UTC:20251204T110000
DTSTAMP:20260423T112510
CREATED:20250828T125228Z
LAST-MODIFIED:20250828T154016Z
UID:1888-1764846000-1764846000@i3d.rutgers.edu
SUMMARY:
DESCRIPTION:SPEAKER: Adam Williams\, Northwestern – HOST: Jason Weinstein & Yosuke Kumamoto
URL:https://i3d.rutgers.edu/event/1888/
LOCATION:NJ
CATEGORIES:Public Events
END:VEVENT
BEGIN:VEVENT
DTSTART;TZID=UTC:20260122T110000
DTEND;TZID=UTC:20260122T120000
DTSTAMP:20260423T112510
CREATED:20250826T135843Z
LAST-MODIFIED:20250828T153949Z
UID:1878-1769079600-1769083200@i3d.rutgers.edu
SUMMARY:
DESCRIPTION:SPEAKER: Stacey Shultz-Cherry\, St. Jude – HOST: Jessica Hargarten
URL:https://i3d.rutgers.edu/event/1878/
LOCATION:NJ
CATEGORIES:Public Events
END:VEVENT
BEGIN:VEVENT
DTSTART;TZID=UTC:20260305T110000
DTEND;TZID=UTC:20260305T120000
DTSTAMP:20260423T112510
CREATED:20250826T140053Z
LAST-MODIFIED:20250903T193346Z
UID:1880-1772708400-1772712000@i3d.rutgers.edu
SUMMARY:
DESCRIPTION:SPEAKER: Marco Colonna\, WashU – HOST: Dongfang Liu
URL:https://i3d.rutgers.edu/event/1880/
LOCATION:NJ
CATEGORIES:Public Events
END:VEVENT
BEGIN:VEVENT
DTSTART;TZID=UTC:20260326T110000
DTEND;TZID=UTC:20260326T120000
DTSTAMP:20260423T112510
CREATED:20250828T125800Z
LAST-MODIFIED:20250828T153834Z
UID:1882-1774522800-1774526400@i3d.rutgers.edu
SUMMARY:
DESCRIPTION:SPEAKER: Caroline Jefferies\, Cedars Sinai – HOST: Jason Weinstein
URL:https://i3d.rutgers.edu/event/1882/
LOCATION:NJ
CATEGORIES:Public Events
END:VEVENT
BEGIN:VEVENT
DTSTART;TZID=UTC:20260416T110000
DTEND;TZID=UTC:20260416T120000
DTSTAMP:20260423T112510
CREATED:20250828T125323Z
LAST-MODIFIED:20250828T153820Z
UID:1890-1776337200-1776340800@i3d.rutgers.edu
SUMMARY:
DESCRIPTION:SPEAKER: Diane Mathis\, Harvard – HOST: Jessica Hargarten
URL:https://i3d.rutgers.edu/event/1890/
LOCATION:NJ
CATEGORIES:Public Events
END:VEVENT
BEGIN:VEVENT
DTSTART;TZID=UTC:20260528T110000
DTEND;TZID=UTC:20260528T120000
DTSTAMP:20260423T112510
CREATED:20250826T140249Z
LAST-MODIFIED:20250828T153806Z
UID:1883-1779966000-1779969600@i3d.rutgers.edu
SUMMARY:
DESCRIPTION:SPEAKER: Vishwa Dixit\, Yale – HOST: Vijay K. Yadav
URL:https://i3d.rutgers.edu/event/1883/
LOCATION:NJ
CATEGORIES:Public Events
END:VEVENT
BEGIN:VEVENT
DTSTART;TZID=UTC:20260604T083000
DTEND;TZID=UTC:20260604T170000
DTSTAMP:20260423T112510
CREATED:20260205T193452Z
LAST-MODIFIED:20260205T195916Z
UID:1910-1780561800-1780592400@i3d.rutgers.edu
SUMMARY:i3D Faculty Research Retreat - Topic:  Immunology Across Rutgers
DESCRIPTION:Co-Chairs:  Dr. Jessica Hargarten and Dr. Alex Papachristodoulou
URL:https://i3d.rutgers.edu/event/i3d-faculty-retreat/
LOCATION:Paul Robeson Cultural Center\, 350 Dr. Martin Luther King Jr. Blvd.\, Newark\, NJ\, 07102\, United States
CATEGORIES:Public Events
END:VEVENT
BEGIN:VEVENT
DTSTART;TZID=UTC:20260625T110000
DTEND;TZID=UTC:20260625T120000
DTSTAMP:20260423T112510
CREATED:20250826T140344Z
LAST-MODIFIED:20250828T154224Z
UID:1885-1782385200-1782388800@i3d.rutgers.edu
SUMMARY:
DESCRIPTION:SPEAKER: Sunny Shin\, UPenn – HOST: Dane Parker
URL:https://i3d.rutgers.edu/event/1885/
LOCATION:NJ
CATEGORIES:Public Events
END:VEVENT
END:VCALENDAR